BEGIN:VCALENDAR
VERSION:2.0
PRODID:-//wp-events-plugin.com//7.2.3.1//EN
BEGIN:VEVENT
UID:733@petstuff.com
DTSTART:20260418T100000Z
DTEND:20260418T130000Z
DTSTAMP:20260316T220251Z
URL:https://petstuff.com/events/suburban-k9-in-home-training-meet-greet/
SUMMARY:Suburban K9 In-Home Training Meet & Greet
DESCRIPTION:🐾✨ Meet the Trainers from Suburban K9! ✨🐾\n\nJoin us 
 at Bentley’s Pet Stuff – Brookfield on April 18th from 10 AM – 1 PM 
 for a special visit from Suburban K9\, experts in in-home dog training! 
 🐶\n\nStop by to meet their team\, learn about their personalized traini
 ng approach\, and discover how in-home training can help your dog build be
 tter habits and confidence right where they’re most comfortable.\n\n🐕
  What you can do at the event:\n• Meet the Suburban K9 training team\n
 • Learn about their in-home training programs\n• Ask questions about b
 ehavior\, obedience\, and training tips\n• Find out how their services c
 an help your pup thrive\n\nWhether you’re working on basic obedience\, b
 ehavior challenges\, or just want to strengthen the bond with your dog\, t
 his is a great chance to connect with experienced trainers and explore you
 r options.\n\nBring your questions and come say hello—we can’t wait to
  see you there! 🐾
LOCATION:Bentley's Pet Stuff & Grooming - Brookfield\, 17260 W Bluemound Rd
 . #660\, Brookfild\, WI\, 53045\, United States
X-APPLE-STRUCTURED-LOCATION;VALUE=URI;X-ADDRESS=17260 W Bluemound Rd. #660\
 , Brookfild\, WI\, 53045\, United States;X-APPLE-RADIUS=100;X-TITLE=Bentle
 y's Pet Stuff & Grooming - Brookfield:geo:0,0
END:VEVENT
END:VCALENDAR