BEGIN:VCALENDAR
VERSION:2.0
PRODID:-//wp-events-plugin.com//7.2.3.1//EN
BEGIN:VEVENT
UID:9@petstuff.com
DTSTART;VALUE=DATE:20221203
DTEND;VALUE=DATE:20221205
DTSTAMP:20221122T140740Z
URL:https://petstuff.com/events/dog-nog-social/
SUMMARY:Dog Nog Social
DESCRIPTION:&nbsp\;\n\n&nbsp\;\n\n\nAll Locations\n\n🎅🎄 Bentley’s F
 ree Dog Nog Social 🎅🎄 \n\n\nFREE Dog Nog for your pup!  \n\n\nThe 
 holidays are here\, and Bentley’s is ready to celebrate in a BIG way thi
 s year with your fur babies! This PAWscape event is guaranteed to get you 
 and your fur baby in the holiday spirit! Plus test out our new K9 Natural 
 Milk for dogs and cats. It’s the perfect daily supplement\, and one of t
 he best additions you can add to your pet’s diet. \n\n\n\nWe even have
  a fun giveaway when you purchase two or more K9 Natural or Feline Natural
  products to help you make yummy treats at home all year long. \n\n\n\nSa
 ve the date for Free Dog Nog \n\n\n🎅 When: December 3rd and 4th  \n\
 n\n\n🎅 Where: All Pet Stuff Locations \n\n\n\n🎅 Time: ALL DAY both 
 days! \n\n\n\nFind your local store and get your furry family ready for s
 ome yummy treats! \n\n\n\nhttps://petstuff.com/find-your-local-bentleys/
  \n\n\n\nLearn more about K9 Natural and Feline Natural here: https://pet
 stuff.com/k9-natural/ \n\n
ATTACH;FMTTYPE=image/jpeg:https://petstuff.com/wp-content/uploads/2022/09/
 dog_nog_thumb.jpg
END:VEVENT
END:VCALENDAR