BEGIN:VCALENDAR
VERSION:2.0
PRODID:-//wp-events-plugin.com//7.2.3.1//EN
BEGIN:VEVENT
UID:224@petstuff.com
DTSTART:20230930T110000Z
DTEND:20230930T140000Z
DTSTAMP:20230831T133019Z
URL:https://petstuff.com/events/dog-and-cat-adoption-pawscape-event-septem
 ber-30th-habersham-savannah-ga/
SUMMARY:Dog and Cat Adoption PAWscape™ Event  | September 30th\, Habersha
 m\, Savannah\, GA.
DESCRIPTION:When you adopt at Bentley's\, make sure you get enrolled in our
  Sharing the Love Adoption program.
ATTACH;FMTTYPE=image/jpeg:https://petstuff.com/wp-content/uploads/2023/08/
 habersham_dog_cat_adoption_093023.jpg
END:VEVENT
END:VCALENDAR