BEGIN:VCALENDAR
VERSION:2.0
PRODID:-//wp-events-plugin.com//7.2.3.1//EN
BEGIN:VEVENT
UID:508@petstuff.com
DTSTART:20250810T123000Z
DTEND:20250810T163000Z
DTSTAMP:20250712T002537Z
URL:https://petstuff.com/events/crystal-lake-national-spoil-your-dog-day-%
 f0%9f%8e%81%f0%9f%90%be/
SUMMARY:Crystal Lake: National Spoil Your Dog Day! 🎁🐾
DESCRIPTION:Bentley's Pet Stuff Crystal Lake hosts "National Spoil Your Dog
  Day\," spotlighting new ways to spoil your dog with interactive toys and 
 treats. Find the perfect items to celebrate your furry friend's unique per
 sonality.
CATEGORIES:Demo/ Sample Events
LOCATION:Bentley's Pet Stuff -  Crystal Lake\, 5300 Northwest Highway #102/
 103\, Crystal Lake\, IL\, 60014-8072\, United States
X-APPLE-STRUCTURED-LOCATION;VALUE=URI;X-ADDRESS=5300 Northwest Highway #102
 /103\, Crystal Lake\, IL\, 60014-8072\, United States;X-APPLE-RADIUS=100;X
 -TITLE=Bentley's Pet Stuff -  Crystal Lake:geo:0,0
END:VEVENT
END:VCALENDAR