BEGIN:VCALENDAR
VERSION:2.0
PRODID:-//wp-events-plugin.com//7.2.3.1//EN
BEGIN:VEVENT
UID:458@petstuff.com
DTSTART:20250706T110000Z
DTEND:20250706T130000Z
DTSTAMP:20250613T200649Z
URL:https://petstuff.com/events/bentleys-pet-stuff-oak-creek-meet-the-grey
 hounds-of-wisconsin/
SUMMARY:Bentley's Pet Stuff Oak Creek: Meet the Greyhounds of Wisconsin!
DESCRIPTION:Meet gentle greyhounds from Greyhounds of Wisconsin! Learn abou
 t their personalities &amp\; adoption. (July 6th\, 11 AM - 1 PM)
LOCATION:Bentley's Pet Stuff & Grooming - Oak Creek\, 7940 S 6th St. Suite 
 103\, Oak Creek\, WI\, 53154\, United States
X-APPLE-STRUCTURED-LOCATION;VALUE=URI;X-ADDRESS=7940 S 6th St. Suite 103\, 
 Oak Creek\, WI\, 53154\, United States;X-APPLE-RADIUS=100;X-TITLE=Bentley'
 s Pet Stuff & Grooming - Oak Creek:geo:0,0
END:VEVENT
END:VCALENDAR